BEGIN:VCALENDAR
VERSION:2.0
PRODID:-//American Legion Post 201, Alpharetta GA - ECPv6.15.20//NONSGML v1.0//EN
CALSCALE:GREGORIAN
METHOD:PUBLISH
X-ORIGINAL-URL:https://legion201.org
X-WR-CALDESC:Events for American Legion Post 201, Alpharetta GA
REFRESH-INTERVAL;VALUE=DURATION:PT1H
X-Robots-Tag:noindex
X-PUBLISHED-TTL:PT1H
BEGIN:VTIMEZONE
TZID:UTC
BEGIN:STANDARD
TZOFFSETFROM:+0000
TZOFFSETTO:+0000
TZNAME:UTC
DTSTART:20240101T000000
END:STANDARD
END:VTIMEZONE
BEGIN:VEVENT
DTSTART;TZID=UTC:20250506T180000
DTEND;TZID=UTC:20250506T200000
DTSTAMP:20260424T231109
CREATED:20230426T034115Z
LAST-MODIFIED:20250425T135054Z
UID:968-1746554400-1746561600@legion201.org
SUMMARY:House Committee Meeting
DESCRIPTION:House Committee Meeting for American Legion Post 201 is held on the 1st Tuesday of the month. Business discussed also includes matters of the Entertainment Committee.
URL:https://legion201.org/event/house-committee-meeting-2/
LOCATION:American Legion Post 201 Ballroom\, 201 Wills Road\, Alpharetta\, GA\, 30009\, United States
CATEGORIES:Business
ATTACH;FMTTYPE=image/jpeg:https://legion201.org/wp-content/uploads/2023/02/Post-201-68.jpg
END:VEVENT
END:VCALENDAR