BEGIN:VCALENDAR
VERSION:2.0
PRODID:-//American Legion Post 201, Alpharetta GA - ECPv6.15.20//NONSGML v1.0//EN
CALSCALE:GREGORIAN
METHOD:PUBLISH
X-WR-CALNAME:American Legion Post 201, Alpharetta GA
X-ORIGINAL-URL:https://legion201.org
X-WR-CALDESC:Events for American Legion Post 201, Alpharetta GA
REFRESH-INTERVAL;VALUE=DURATION:PT1H
X-Robots-Tag:noindex
X-PUBLISHED-TTL:PT1H
BEGIN:VTIMEZONE
TZID:America/New_York
BEGIN:DAYLIGHT
TZOFFSETFROM:-0500
TZOFFSETTO:-0400
TZNAME:EDT
DTSTART:20230312T070000
END:DAYLIGHT
BEGIN:STANDARD
TZOFFSETFROM:-0400
TZOFFSETTO:-0500
TZNAME:EST
DTSTART:20231105T060000
END:STANDARD
BEGIN:DAYLIGHT
TZOFFSETFROM:-0500
TZOFFSETTO:-0400
TZNAME:EDT
DTSTART:20240310T070000
END:DAYLIGHT
BEGIN:STANDARD
TZOFFSETFROM:-0400
TZOFFSETTO:-0500
TZNAME:EST
DTSTART:20241103T060000
END:STANDARD
BEGIN:DAYLIGHT
TZOFFSETFROM:-0500
TZOFFSETTO:-0400
TZNAME:EDT
DTSTART:20250309T070000
END:DAYLIGHT
BEGIN:STANDARD
TZOFFSETFROM:-0400
TZOFFSETTO:-0500
TZNAME:EST
DTSTART:20251102T060000
END:STANDARD
BEGIN:DAYLIGHT
TZOFFSETFROM:-0500
TZOFFSETTO:-0400
TZNAME:EDT
DTSTART:20260308T070000
END:DAYLIGHT
BEGIN:STANDARD
TZOFFSETFROM:-0400
TZOFFSETTO:-0500
TZNAME:EST
DTSTART:20261101T060000
END:STANDARD
END:VTIMEZONE
BEGIN:VEVENT
DTSTART;TZID=America/New_York:20241207T150000
DTEND;TZID=America/New_York:20241207T220000
DTSTAMP:20260420T082019
CREATED:20241123T020242Z
LAST-MODIFIED:20241123T020558Z
UID:2335-1733583600-1733608800@legion201.org
SUMMARY:Pearl Harbor Day
DESCRIPTION:Saturday\, Dec. 7\, Pearl Harbor Day. The SAL also plans to provide snacks and other finger food in the Clubroom/Bar during the afternoon since the day also is a major college football day. \n\nPearl Harbor Day this year (Saturday Dec. 7) is also a college football championship game day. The SAL plans to provide ‘heavy’ appetizers (wings\, sandwiches and other finger foods) in the Clubroom/Bar that afternoon starting around 4 p.m. SAL Commander Derek Garmon says a 50/50 raffle is also on the afternoon’s entertainment list. And he suggested that some members of the Post family may want to bring a pot-luck dish to compliment the hors d’oeuvres being provided by the SAL. Post Commander Bob Byrd said a special drink would be identified for the day.
URL:https://legion201.org/event/pearl-harbor-day/
LOCATION:GA
END:VEVENT
BEGIN:VEVENT
DTSTART;TZID=America/New_York:20241220T150000
DTEND;TZID=America/New_York:20241220T220000
DTSTAMP:20260420T082019
CREATED:20241123T020342Z
LAST-MODIFIED:20241123T020448Z
UID:2337-1734706800-1734732000@legion201.org
SUMMARY:US Space Force Birthday
DESCRIPTION:Friday\, Dec. 20. U.S. Space Force Birthday. A special drink (as yet to be announced) will be available for veterans\, whether they are members of the Post or not\, and active duty service members so they can toast the Space Force. \n\nThe U.S. Space Force celebrates its birthday on Wednesday\, Dec. 20. A special drink will be identified for that day in keeping with the developing tradition at the Post to have a special drink (sold at a slightly reduced price) so all veterans\, whether a member of the Post or not\, as well as any active duty members who might be in the Clubroom/Bar that day can toast their sister service with one or more celebratory drinks.
URL:https://legion201.org/event/us-space-force-birthday/
LOCATION:GA
END:VEVENT
BEGIN:VEVENT
DTSTART;VALUE=DATE:20241225
DTEND;VALUE=DATE:20241226
DTSTAMP:20260420T082019
CREATED:20241123T020116Z
LAST-MODIFIED:20241123T020116Z
UID:2333-1735084800-1735171199@legion201.org
SUMMARY:Christmas Day - Post Closed
DESCRIPTION:Merry Christmas to ALL! American Legion Post 201 will be CLOSED.
URL:https://legion201.org/event/christmas-day-post-closed/
LOCATION:GA
CATEGORIES:Auxiliary,Legion,Public,SAL
END:VEVENT
BEGIN:VEVENT
DTSTART;TZID=America/New_York:20241231T190000
DTEND;TZID=America/New_York:20250101T000000
DTSTAMP:20260420T082019
CREATED:20231003T023844Z
LAST-MODIFIED:20241213T001036Z
UID:1212-1735671600-1735689600@legion201.org
SUMMARY:CLUB 201 New Years GALA
DESCRIPTION:Club 201 New Years Gala\, sponsored by Club 201 .  Contact our bar staff here. \nNYE Party 2024 \n\nTickets HERE
URL:https://legion201.org/event/club-201-new-years-eve-party/
LOCATION:American Legion Post 201 Ballroom\, 201 Wills Road\, Alpharetta\, GA\, 30009\, United States
CATEGORIES:Dance,Public
ATTACH;FMTTYPE=image/jpeg:https://legion201.org/wp-content/uploads/2024/12/NYE-Party-2024.jpg
ORGANIZER;CN="Dave Gordon":MAILTO:flashgordon49@msn.com
END:VEVENT
END:VCALENDAR