BEGIN:VCALENDAR
VERSION:2.0
PRODID:-//American Legion Post 201, Alpharetta GA - ECPv6.15.20//NONSGML v1.0//EN
CALSCALE:GREGORIAN
METHOD:PUBLISH
X-WR-CALNAME:American Legion Post 201, Alpharetta GA
X-ORIGINAL-URL:https://legion201.org
X-WR-CALDESC:Events for American Legion Post 201, Alpharetta GA
REFRESH-INTERVAL;VALUE=DURATION:PT1H
X-Robots-Tag:noindex
X-PUBLISHED-TTL:PT1H
BEGIN:VTIMEZONE
TZID:America/New_York
BEGIN:DAYLIGHT
TZOFFSETFROM:-0500
TZOFFSETTO:-0400
TZNAME:EDT
DTSTART:20230312T070000
END:DAYLIGHT
BEGIN:STANDARD
TZOFFSETFROM:-0400
TZOFFSETTO:-0500
TZNAME:EST
DTSTART:20231105T060000
END:STANDARD
BEGIN:DAYLIGHT
TZOFFSETFROM:-0500
TZOFFSETTO:-0400
TZNAME:EDT
DTSTART:20240310T070000
END:DAYLIGHT
BEGIN:STANDARD
TZOFFSETFROM:-0400
TZOFFSETTO:-0500
TZNAME:EST
DTSTART:20241103T060000
END:STANDARD
BEGIN:DAYLIGHT
TZOFFSETFROM:-0500
TZOFFSETTO:-0400
TZNAME:EDT
DTSTART:20250309T070000
END:DAYLIGHT
BEGIN:STANDARD
TZOFFSETFROM:-0400
TZOFFSETTO:-0500
TZNAME:EST
DTSTART:20251102T060000
END:STANDARD
BEGIN:DAYLIGHT
TZOFFSETFROM:-0500
TZOFFSETTO:-0400
TZNAME:EDT
DTSTART:20260308T070000
END:DAYLIGHT
BEGIN:STANDARD
TZOFFSETFROM:-0400
TZOFFSETTO:-0500
TZNAME:EST
DTSTART:20261101T060000
END:STANDARD
BEGIN:DAYLIGHT
TZOFFSETFROM:-0500
TZOFFSETTO:-0400
TZNAME:EDT
DTSTART:20270314T070000
END:DAYLIGHT
BEGIN:STANDARD
TZOFFSETFROM:-0400
TZOFFSETTO:-0500
TZNAME:EST
DTSTART:20271107T060000
END:STANDARD
END:VTIMEZONE
BEGIN:VEVENT
DTSTART;TZID=America/New_York:20260328T163000
DTEND;TZID=America/New_York:20260328T180000
DTSTAMP:20260424T164122
CREATED:20260310T183432Z
LAST-MODIFIED:20260310T183501Z
UID:3419-1774715400-1774720800@legion201.org
SUMMARY:Golden Ladle for March is Potatoes
DESCRIPTION:Competition for best potato dish and anything but baked potatoes! Bring your BEST potato dish.  Sign up in advance PLEASE! \n 
URL:https://legion201.org/event/golden-ladle-for-march-is-potatoes/
LOCATION:American Legion Post 201 Club Room\, 201 Wills Road\, Alpharetta\, GA\, 30009\, United States
CATEGORIES:Auxiliary,Legion,Public,SAL
ATTACH;FMTTYPE=image/png:https://legion201.org/wp-content/uploads/2026/03/Potato-Cookoff.png
END:VEVENT
BEGIN:VEVENT
DTSTART;TZID=America/New_York:20260314T183000
DTEND;TZID=America/New_York:20260314T223000
DTSTAMP:20260424T164122
CREATED:20260310T185751Z
LAST-MODIFIED:20260310T185751Z
UID:3422-1773513000-1773527400@legion201.org
SUMMARY:Lucky Paws and Patriots Casino Night Fundraiser
DESCRIPTION:Net proceeds go to Warrior Freedom Service Dogs and other Lions supported charities. Warrior Freedom Service Dogs provides disabled veterans trained service dogs to connect to society. \n 
URL:https://legion201.org/event/lucky-paws-and-patriots-casino-night-fundraiser/
LOCATION:American Legion Post 201 Ballroom\, 201 Wills Road\, Alpharetta\, GA\, 30009\, United States
CATEGORIES:Auxiliary,Legion,Public,SAL
ATTACH;FMTTYPE=image/jpeg:https://legion201.org/wp-content/uploads/2026/03/Lucky-Paws.jpg
END:VEVENT
BEGIN:VEVENT
DTSTART;TZID=America/New_York:20260228T180000
DTEND;TZID=America/New_York:20260228T210000
DTSTAMP:20260424T164122
CREATED:20260129T183844Z
LAST-MODIFIED:20260129T183844Z
UID:3330-1772301600-1772312400@legion201.org
SUMMARY:SAL's NY Roast Prime Rib Dinner
DESCRIPTION:SAL will be cooking up Roasted Prime Rib dinners.  The cost is $25 which will include 2 sides.  What a great deal! \n 
URL:https://legion201.org/event/sals-ny-roast-prime-rib-dinner/
LOCATION:American Legion Post 201 Club Room\, 201 Wills Road\, Alpharetta\, GA\, 30009\, United States
CATEGORIES:Auxiliary,Legion,Public,SAL
ATTACH;FMTTYPE=image/jpeg:https://legion201.org/wp-content/uploads/2026/01/Prime-Rib.jpg
ORGANIZER;CN="Derek Garmon":MAILTO:derekgarmon@yahoo.com
END:VEVENT
BEGIN:VEVENT
DTSTART;TZID=America/New_York:20260221T163000
DTEND;TZID=America/New_York:20260221T173000
DTSTAMP:20260424T164122
CREATED:20260129T182735Z
LAST-MODIFIED:20260129T182735Z
UID:3326-1771691400-1771695000@legion201.org
SUMMARY:Chili Cook Off
DESCRIPTION:Nothing like a bowl of hot chili to warm you up on these chilly days.  So bring your entry for the Chili Cook off.  Tasting starts at 4:30 p.m. \n 
URL:https://legion201.org/event/chili-cook-off/
LOCATION:American Legion Post 201 Club Room\, 201 Wills Road\, Alpharetta\, GA\, 30009\, United States
CATEGORIES:Auxiliary,Legion,Public,SAL
ATTACH;FMTTYPE=image/jpeg:https://legion201.org/wp-content/uploads/2026/01/Chili-Cookoff.jpg
END:VEVENT
BEGIN:VEVENT
DTSTART;TZID=America/New_York:20260213T143000
DTEND;TZID=America/New_York:20260213T173000
DTSTAMP:20260424T164122
CREATED:20260121T190233Z
LAST-MODIFIED:20260129T181350Z
UID:3299-1770993000-1771003800@legion201.org
SUMMARY:Golden Heart GALA
DESCRIPTION:A special celebration for golden people in our community by Alpharetta Rotary.  Dress in your favorite party attire and join Golden Heart Gala!  Join the fun in an afternoon of music\, dancing\, food and drinks\, raffles and prizes\, line dancing lessions\, queen/king of Golden Gala and much more. \n 
URL:https://legion201.org/event/golden-heart-gala/
LOCATION:American Legion Post 201 Ballroom\, 201 Wills Road\, Alpharetta\, GA\, 30009\, United States
CATEGORIES:Auxiliary,Legion,Public,SAL
ATTACH;FMTTYPE=image/jpeg:https://legion201.org/wp-content/uploads/2026/01/rotary_gala_20260121-scaled.jpg
ORGANIZER;CN="Alpharetta Rotary":MAILTO:info@alpharettarotary.com
END:VEVENT
BEGIN:VEVENT
DTSTART;TZID=America/New_York:20260208T173000
DTEND;TZID=America/New_York:20260208T203000
DTSTAMP:20260424T164122
CREATED:20260129T181008Z
LAST-MODIFIED:20260129T181230Z
UID:3322-1770571800-1770582600@legion201.org
SUMMARY:Super Bowl LV 2026 Watch Party
DESCRIPTION:Game watching is more fun with friends and family.  Bring your favorite snack to share! \n 
URL:https://legion201.org/event/super-bowl-lv-2026-watch-party/
LOCATION:American Legion Post 201 Club Room\, 201 Wills Road\, Alpharetta\, GA\, 30009\, United States
CATEGORIES:Auxiliary,Legion,Public,SAL
ATTACH;FMTTYPE=image/jpeg:https://legion201.org/wp-content/uploads/2026/01/Super-Bowl-2026.jpg
END:VEVENT
BEGIN:VEVENT
DTSTART;TZID=America/New_York:20260131T163000
DTEND;TZID=America/New_York:20260131T183000
DTSTAMP:20260424T164122
CREATED:20260129T180313Z
LAST-MODIFIED:20260129T181256Z
UID:3320-1769877000-1769884200@legion201.org
SUMMARY:Golden Ladle Soup Competition
DESCRIPTION:It’s Soup On for Post 201.  Give it your best and bring your soup.  The winning soup “chef” gets bragging rights for the “Best Soup.” \n 
URL:https://legion201.org/event/golden-ladle-soup-competition/
LOCATION:American Legion Post 201 Club Room\, 201 Wills Road\, Alpharetta\, GA\, 30009\, United States
CATEGORIES:Auxiliary,Legion,Public,SAL
ATTACH;FMTTYPE=image/jpeg:https://legion201.org/wp-content/uploads/2026/01/Golden-Soup-Ladle.jpg
END:VEVENT
BEGIN:VEVENT
DTSTART;TZID=America/New_York:20251221T140000
DTEND;TZID=America/New_York:20251221T180000
DTSTAMP:20260424T164122
CREATED:20251209T171703Z
LAST-MODIFIED:20251209T171703Z
UID:3196-1766325600-1766340000@legion201.org
SUMMARY:Ugly Sweater Contest Party
DESCRIPTION:On Dec 21\, Post 201 is hosting the Ugly Sweater Party.  Get ready with your best gawdy\, flashy\, or tacky Christmas knitwear!  A 12-Spirit Raffle Draw is also set for this Sunday.  Tickets are 1 for $5\, 3 tickets for $10 and $10 tickets for $20. The pictures of the Spirit basket are posted in the Clubroom.  Ugly Sweater Contest winner(s) announced at 5 p.m.!
URL:https://legion201.org/event/ugly-sweater-holiday-contest/
LOCATION:American Legion Post 201 Club Room\, 201 Wills Road\, Alpharetta\, GA\, 30009\, United States
CATEGORIES:Auxiliary,Legion,SAL
ATTACH;FMTTYPE=image/jpeg:https://legion201.org/wp-content/uploads/2025/12/Ugly-Sweater.jpg
END:VEVENT
BEGIN:VEVENT
DTSTART;TZID=America/New_York:20251213T150000
DTEND;TZID=America/New_York:20251213T190000
DTSTAMP:20260424T164122
CREATED:20251209T141504Z
LAST-MODIFIED:20251209T141504Z
UID:3203-1765638000-1765652400@legion201.org
SUMMARY:Watch Party for Army Navy Football Game
DESCRIPTION:Join your friends at Post 201 for the Watch Party.  We are spicing things up with a Chili Cook-off. If you don’t have a pot of chili to enter\, please bring a side dish to share.  A signup sheet for side dishes is in the Clubroom.
URL:https://legion201.org/event/watch-party-for-army-navy-football-game/
LOCATION:American Legion Post 201 Club Room\, 201 Wills Road\, Alpharetta\, GA\, 30009\, United States
CATEGORIES:Auxiliary,Legion,SAL
ATTACH;FMTTYPE=image/webp:https://legion201.org/wp-content/uploads/2025/12/army-navy-uniform-2025.webp
END:VEVENT
BEGIN:VEVENT
DTSTART;TZID=America/New_York:20251015T080000
DTEND;TZID=America/New_York:20251015T150000
DTSTAMP:20260424T164122
CREATED:20250702T190012Z
LAST-MODIFIED:20250702T190012Z
UID:2688-1760515200-1760540400@legion201.org
SUMMARY:8th Annual Rick Gimpel Golf Tournament
DESCRIPTION:8th Annual Rick Gimpel Memorial Golf Tournament presented by Sons of The American Legion Squadron 201\, Apharetta. \nHelp support local veterans and their families. \nWhen – Wednesday\, Oct. 15\, 2025\, Registration opens at 8:00 AM – 9:30 AM Shot Gun Start \nWhere – The Golf Club at Bradshaw Farm\, 3030 Bradshaw Drive\, Woodstock\,GA \nRegistation Fees – $150 per player. \nCorporate Sponsorship available – contact Derek Garmon\, Commander\, SAL 201 – derekgarmon@yahoo.com
URL:https://legion201.org/event/8th-annual-rick-gimpel-golf-tournament/
LOCATION:Golf Club at Bradshaw Farm\, 3030 Bradshaw Club Dr\, Woodstock\, GA\, 30188\, United States
CATEGORIES:SAL
ATTACH;FMTTYPE=image/jpeg:https://legion201.org/wp-content/uploads/2025/07/20251015_SAL_Post201_Golf_poster.jpg
ORGANIZER;CN="Derek Garmon":MAILTO:derekgarmon@yahoo.com
END:VEVENT
BEGIN:VEVENT
DTSTART;TZID=America/New_York:20250901T130000
DTEND;TZID=America/New_York:20250901T180000
DTSTAMP:20260424T164122
CREATED:20250829T163312Z
LAST-MODIFIED:20250829T170625Z
UID:2946-1756731600-1756749600@legion201.org
SUMMARY:Post 201 Labor Day Celebration
DESCRIPTION:Post 201 members\, family\, and guests are invited to the Labor Day Celebration. This year the celebration is focused on the members and family.  Bob Byrd has purchased a 100-lb whole hog which will be barbecued by Ralph Files and his cooking team.  Club room opens at 1:00 p.m.  Food will be available from 3:00 p.m.  Members and family are asked to bring a dish to share and a signup is available in the Clubroom.  Special drinks have been identified by DiAna Casale\, Bar Manager\, The Rum Mule\, Bourbon Spritz\, and Vodka Lemonade using well brand liquor is available for $3. Food is free and if you bring a guest\, please have them sign our Guest Book!
URL:https://legion201.org/event/post-201-labor-day-celebration/
LOCATION:American Legion Post 201 Club Room\, 201 Wills Road\, Alpharetta\, GA\, 30009\, United States
CATEGORIES:Auxiliary,Legion,SAL
ATTACH;FMTTYPE=image/jpeg:https://legion201.org/wp-content/uploads/2025/08/Labor-Day.jpg
END:VEVENT
BEGIN:VEVENT
DTSTART;TZID=America/New_York:20250517T180000
DTEND;TZID=America/New_York:20250517T210000
DTSTAMP:20260424T164122
CREATED:20250426T212911Z
LAST-MODIFIED:20250426T212911Z
UID:2621-1747504800-1747515600@legion201.org
SUMMARY:SAL Steak Dinner
DESCRIPTION:SAL Steak Dinner Saturday\, May 17\, 6 p.m. to 9 p.m.  The Sons of American Legion (SAL) will be cooking and selling dinners to members of the Post 201 Family and dancers. The menu includes: Porterhouse T-Bone dinner – $25 per meal; regular T-Bone dinner – $20 per meal; and chicken and pork chop dinners – $15 each. A sign-up sheet to order your meal will be posted in the Clubroom two weeks prior to the event.
URL:https://legion201.org/event/sal-steak-dinner/
LOCATION:American Legion Post 201 Club Room\, 201 Wills Road\, Alpharetta\, GA\, 30009\, United States
CATEGORIES:Auxiliary,Legion,SAL
END:VEVENT
BEGIN:VEVENT
DTSTART;VALUE=DATE:20250517
DTEND;VALUE=DATE:20250518
DTSTAMP:20260424T164122
CREATED:20240425T225300Z
LAST-MODIFIED:20250425T135506Z
UID:1850-1747440000-1747526399@legion201.org
SUMMARY:Armed Forces Day
DESCRIPTION:Armed Forces Day – America pays homage to service members in all six branches of the U.S military on National Armed Forces Day. Armed Forces Day was established in 1949 and falls on the third Saturday in May. \nEvery drink of any variety sold at the at the Clubroom/Bar and purchased by a veteran for his or her consumption (or active duty member) on this day will be reduced by $1 off the regular price. Veterans need to be prepared to verify they are veterans (if asked by the bartender) and the same procedure will be in place for members of the Armed Forces on active duty. A military ID card will be acceptable for those on active duty.
URL:https://legion201.org/event/armed-forces-day/
LOCATION:GA
CATEGORIES:Auxiliary,Legion,SAL
ATTACH;FMTTYPE=image/jpeg:https://legion201.org/wp-content/uploads/2024/04/Armed-Forces-Day1.jpg
END:VEVENT
BEGIN:VEVENT
DTSTART;TZID=America/New_York:20250203T140000
DTEND;TZID=America/New_York:20250203T220000
DTSTAMP:20260424T164122
CREATED:20250131T013825Z
LAST-MODIFIED:20250131T013825Z
UID:2443-1738591200-1738620000@legion201.org
SUMMARY:Four Chaplains Day Remembrance
DESCRIPTION:Four Chaplains Day Remembrance to be recognized on Monday\, Feb. 3. at Post 201\, with reduction of pricing by $1 on all wines served at the Clubroom Bar. \nBACKGROUND HISTORY: Feb. 3 is the anniversary of the 1943 sinking of the United States Army Transport Dorchester in the waters of Greenland\, and the selfless acts of Lt. George L. Fox\, a Methodist minister from Pennsylvania; Lt. Alexander D. Goode\, a Reform rabbi\nfrom New York; Lt. John P. Washington\, a Roman Catholic priest from New Jersey; and Lt. Clark V. Poling\, a Reformed Church in America minister from Ohio. They gave up their lives for soldiers during as the Dorchester sank. For more information click here
URL:https://legion201.org/event/four-chaplains-day-remembrance/
LOCATION:American Legion Post 201 Club Room\, 201 Wills Road\, Alpharetta\, GA\, 30009\, United States
CATEGORIES:Auxiliary,Legion,SAL
ATTACH;FMTTYPE=image/jpeg:https://legion201.org/wp-content/uploads/2025/01/mil-USS-Dorchester-Four-Chaplains-1200.jpg
END:VEVENT
BEGIN:VEVENT
DTSTART;TZID=America/New_York:20250202T160000
DTEND;TZID=America/New_York:20250202T180000
DTSTAMP:20260424T164122
CREATED:20250131T013055Z
LAST-MODIFIED:20250131T013055Z
UID:2440-1738512000-1738519200@legion201.org
SUMMARY:Groundhog Day Chili Cookoff
DESCRIPTION:Groundhog Day Chili Cookoff for Legion Family Members Only (Legionnaires\, SAL and Auxiliary plus guests) will be on Sunday\, Feb. 2\, 4 p.m. in the American Legion Post 201 Bar/Clubroom .  All chili dishes must be in place and ready to be served at 4 p.m. Current plans assume a winner will be declared in the 5 p.m. time frame. The prize for winning – – – ‘bragging rights’ until the next next chili cook-off.
URL:https://legion201.org/event/groundhog-day-chili-cookoff/
LOCATION:American Legion Post 201 Club Room\, 201 Wills Road\, Alpharetta\, GA\, 30009\, United States
CATEGORIES:Auxiliary,Legion,SAL
ATTACH;FMTTYPE=image/jpeg:https://legion201.org/wp-content/uploads/2025/01/Groundhog-Day-Chili-Cookoff.jpg
ORGANIZER;CN="Bob Byrd":MAILTO:bobbyrd947@gmail.com
END:VEVENT
BEGIN:VEVENT
DTSTART;VALUE=DATE:20241225
DTEND;VALUE=DATE:20241226
DTSTAMP:20260424T164122
CREATED:20241123T020116Z
LAST-MODIFIED:20241123T020116Z
UID:2333-1735084800-1735171199@legion201.org
SUMMARY:Christmas Day - Post Closed
DESCRIPTION:Merry Christmas to ALL! American Legion Post 201 will be CLOSED.
URL:https://legion201.org/event/christmas-day-post-closed/
LOCATION:GA
CATEGORIES:Auxiliary,Legion,Public,SAL
END:VEVENT
BEGIN:VEVENT
DTSTART;TZID=America/New_York:20241109T110000
DTEND;TZID=America/New_York:20241109T150000
DTSTAMP:20260424T164122
CREATED:20240820T193720Z
LAST-MODIFIED:20241030T185119Z
UID:2150-1731150000-1731164400@legion201.org
SUMMARY:Cruz-In Car Show 2024
DESCRIPTION:Cruz-In Car Show 2024 will be the EIGHTH annual event at American Legion Post 201 in Alpharetta\, Georgia from 11am to 3pm!  Carl Black GMC of Roswell is the presenting sponsor of this don’t-miss event\, as many will tell you. Come see our grounds filled with Classics\, Exotics\, Vintage\, Modern\, Custom\, Military\, Off-Road\, Muscle Cars and Motorcycles. \nEnjoy BBQ\, Hotdogs\, Hamburgers\, Brunswick Stew\, Kid’s Activities\, Full-Service Bar (Club Room)\, Music\, Raffle\, Local Vendors.  Enjoy yourself till your bumper falls off! \nHonoring our Veterans and supporting Post 201’s efforts for those Veterans \nFor more info\, contact: Tommy Youngblood 678-462-9023 youngbloodtom@att.net \nIn addition to the cars themselves\, there will be a couple of bouncy houses on the property for children to play in. And another event has been added to this year’s Cruz-In activities – – – the “1st Annual Stars and Stripes – American Legion Baseball Game.” The Aviator Nation (Stars) will square off against the Georgia Jackets (Stripes) to play a full 9-inning ballgame starting at 11:30 a.m. on the Post’s field.  \nAll activities at the Post on Saturday will be free and open to the public – – – other than any food or beverages they may purchase.
URL:https://legion201.org/event/cruz-in-car-show-2024/
LOCATION:Walk of Memories Grounds\, 201 Wills Road\, Alpharetta\, GA\, 30009\, United States
CATEGORIES:Auxiliary,Legion,Public,SAL
ATTACH;FMTTYPE=image/jpeg:https://legion201.org/wp-content/uploads/2024/08/Final-cruz-in-2024-scaled.jpg
ORGANIZER;CN="Tommy Youngblood":MAILTO:youngbloodtom@att.net
END:VEVENT
BEGIN:VEVENT
DTSTART;TZID=America/New_York:20241016T080000
DTEND;TZID=America/New_York:20241016T170000
DTSTAMP:20260424T164122
CREATED:20230526T190800Z
LAST-MODIFIED:20240701T164619Z
UID:1051-1729065600-1729098000@legion201.org
SUMMARY:Rick Gimpel Memorial Golf Tournament
DESCRIPTION:Rick Gimpel Memorial Golf Tournament\, organized by Sons of American Legion (SAL) will hold it’s 6th annual event on Wednesday\, Oct. 16 at The Golf Club at Bradshaw Farm in Woodstock. Click here for more information on corporate sponsorship. Or contact either Derek Garmon 770-294-4259 or Kevin Solik\, 404-483-3230 for more information.
URL:https://legion201.org/event/rick-gimpel-memorial-golf-tournament/
LOCATION:Golf Club at Bradshaw Farm\, 3030 Bradshaw Club Dr\, Woodstock\, GA\, 30188\, United States
CATEGORIES:Offsite Event,SAL
ATTACH;FMTTYPE=image/jpeg:https://legion201.org/wp-content/uploads/2023/05/BradshawFarm.jpg
ORGANIZER;CN="Derek Garmon":MAILTO:derekgarmon@yahoo.com
END:VEVENT
BEGIN:VEVENT
DTSTART;TZID=America/New_York:20241013T150000
DTEND;TZID=America/New_York:20241013T220000
DTSTAMP:20260424T164122
CREATED:20240930T222426Z
LAST-MODIFIED:20240930T222426Z
UID:2226-1728831600-1728856800@legion201.org
SUMMARY:U.S. Navy Birthday
DESCRIPTION:U.S. Navy Birthday – Sunday\, Oct. 13. On Oct. 13\, 1775\, the Continental Congress established a naval force\, hoping that a small fleet of privateers could attack British commerce and offset British sea power. \nTo honor the Navy’s birthday\, the price of any rum-based drink served at the bar will reduced by $1 for any veteran from any branch of service. In the U.S. Navy the daily rum ration was one-half U.S. pint of distilled spirits until 1842\, when it was reduced to one gill (1/4th of a U.S. pint). The ration was abolished in 1862.
URL:https://legion201.org/event/u-s-navy-birthday/
LOCATION:American Legion Post 201 Club Room\, 201 Wills Road\, Alpharetta\, GA\, 30009\, United States
CATEGORIES:Auxiliary,Legion,SAL
END:VEVENT
BEGIN:VEVENT
DTSTART;TZID=America/New_York:20240727T180000
DTEND;TZID=America/New_York:20240727T220000
DTSTAMP:20260424T164122
CREATED:20240626T215153Z
LAST-MODIFIED:20240626T215153Z
UID:2020-1722103200-1722117600@legion201.org
SUMMARY:Comedy Night at the Legion
DESCRIPTION:Comedy Night at the Legion announces the return of two of the funniest\, entertaining comedians. Double Headliners Joseph Anthony and Jeff Norris will be here July 27th. Tickets are going fast so get yours today.  Ticket price is $45.00(non refundable) which includes dinner and the show. Doors open at 6:00 pm for dinner with the show starting at 8:00 pm. \nDrink specials will be available and a full bar to satisfy your thirst. Come on out and enjoy a night of laughter. This will be a show you won’t want to miss. \nDinner Menu:  Menu chicken paragon\, baked ziti\, chicken marsala\, meatballs\, Sausage & peppers\, salad\, and a desert \nOUR ENTERTAINERS:   \nJoseph Anthony is undeniably unique. His obvious New York accent and Italian-American background fool you\, because he is NOT just another Italian Comic! This true-to-life storyteller turns his hardships\, and those of everyday people\, into brilliantly. \nJeff Norris is a comedy powerhouse who headlines across the country. He’s had roles on Saturday Night Live\, Boardwalk Empire\, Law & Order\, and Oz\, and in the film “Not Fade Away”.\nJeff’s best role is that of Comedy Fundraising Machine. Norris has entertained crowds with his classic impressions\, his perfect comic timing and his genial nature that just makes you love him. In a world of manufactured comedians and artists\, he is the real deal – working in the trenches of comedy performing wherever he goes. When you walk into a Jeff Norris show you may have bills\, stress or sorrow on your plate. When you leave you take nothing with you but your hurting cheeks\, the tears in your eyes from the constant barrage of stories and one-liners and a feeling that you have just seen something special. \nFor a good evening of fun and laughter\, make sure to mark your calendar for this one.  https://www.eventbrite.com/e/laughter-at-the-legion-iv-tickets-934582079157
URL:https://legion201.org/event/comedy-night-at-the-legion/
LOCATION:American Legion Post 201 Ballroom\, 201 Wills Road\, Alpharetta\, GA\, 30009\, United States
CATEGORIES:Legion,Public,SAL
ORGANIZER;CN="Derek Garmon":MAILTO:derekgarmon@yahoo.com
END:VEVENT
END:VCALENDAR