BEGIN:VCALENDAR
VERSION:2.0
PRODID:-//American Legion Post 201, Alpharetta GA - ECPv6.15.20//NONSGML v1.0//EN
CALSCALE:GREGORIAN
METHOD:PUBLISH
X-ORIGINAL-URL:https://legion201.org
X-WR-CALDESC:Events for American Legion Post 201, Alpharetta GA
REFRESH-INTERVAL;VALUE=DURATION:PT1H
X-Robots-Tag:noindex
X-PUBLISHED-TTL:PT1H
BEGIN:VTIMEZONE
TZID:America/New_York
BEGIN:DAYLIGHT
TZOFFSETFROM:-0500
TZOFFSETTO:-0400
TZNAME:EDT
DTSTART:20230312T070000
END:DAYLIGHT
BEGIN:STANDARD
TZOFFSETFROM:-0400
TZOFFSETTO:-0500
TZNAME:EST
DTSTART:20231105T060000
END:STANDARD
BEGIN:DAYLIGHT
TZOFFSETFROM:-0500
TZOFFSETTO:-0400
TZNAME:EDT
DTSTART:20240310T070000
END:DAYLIGHT
BEGIN:STANDARD
TZOFFSETFROM:-0400
TZOFFSETTO:-0500
TZNAME:EST
DTSTART:20241103T060000
END:STANDARD
BEGIN:DAYLIGHT
TZOFFSETFROM:-0500
TZOFFSETTO:-0400
TZNAME:EDT
DTSTART:20250309T070000
END:DAYLIGHT
BEGIN:STANDARD
TZOFFSETFROM:-0400
TZOFFSETTO:-0500
TZNAME:EST
DTSTART:20251102T060000
END:STANDARD
BEGIN:DAYLIGHT
TZOFFSETFROM:-0500
TZOFFSETTO:-0400
TZNAME:EDT
DTSTART:20260308T070000
END:DAYLIGHT
BEGIN:STANDARD
TZOFFSETFROM:-0400
TZOFFSETTO:-0500
TZNAME:EST
DTSTART:20261101T060000
END:STANDARD
END:VTIMEZONE
BEGIN:VEVENT
DTSTART;TZID=America/New_York:20241231T190000
DTEND;TZID=America/New_York:20250101T000000
DTSTAMP:20260421T190659
CREATED:20231003T023844Z
LAST-MODIFIED:20241213T001036Z
UID:1212-1735671600-1735689600@legion201.org
SUMMARY:CLUB 201 New Years GALA
DESCRIPTION:Club 201 New Years Gala\, sponsored by Club 201 .  Contact our bar staff here. \nNYE Party 2024 \n\nTickets HERE
URL:https://legion201.org/event/club-201-new-years-eve-party/
LOCATION:American Legion Post 201 Ballroom\, 201 Wills Road\, Alpharetta\, GA\, 30009\, United States
CATEGORIES:Dance,Public
ATTACH;FMTTYPE=image/jpeg:https://legion201.org/wp-content/uploads/2024/12/NYE-Party-2024.jpg
ORGANIZER;CN="Dave Gordon":MAILTO:flashgordon49@msn.com
END:VEVENT
BEGIN:VEVENT
DTSTART;TZID=America/New_York:20250111T100000
DTEND;TZID=America/New_York:20250111T120000
DTSTAMP:20260421T190659
CREATED:20241227T045613Z
LAST-MODIFIED:20241227T045613Z
UID:2370-1736589600-1736596800@legion201.org
SUMMARY:Annual Oratorical Contest at Post 201
DESCRIPTION:Annual Oratorical Contest at Post 201 is Set for Saturday\, January 11\, 2025 at 10 a.m. at American Legion Post 201. Members of the Post 201 Family and the General Public are invited to attend the competition. \nThe January 11 contest is the first of four levels of competition leading to the American Legion’s national competition at Hillsdale College\, Hillsdale\, Mich. on May 16 – 18. The top three winners in the Post’s competition will receive scholarship funds of: First Place – $1\,000; Second Place – $750; and Third Place – $500. \nAdditional scholarship money may be earned at each succeeding level of competition with the winner at the national level earning more than $25\,000. \nPost Oratorical Contest Chair David Cunnold said five contestants are currently registered to compete on January 11. Although he said the contestants names cannot be announced prior to the day of the competition\, they include an 18-year-old senior from Chattahoochee High School; two 17-year-old juniors from Innovation Academy; an 18-year-old junior from Forsyth Central High School; and a 17-year-old junior from Milton High School. \nEach contestant will give two speeches during competition. One is prepared in advance and will be on some aspect of the U.S. Constitution\, with emphasis on the duties and obligations of citizens to the government. The prepared speeches will be eight-to-ten minutes long. The second speech for each contestant will be a three-to-five minute assigned topic presentation based on one of the following amendments:\nAmendment I – Provides Fundamental Freedoms.\nAmendment VII – Protects the right to a jury trial.\nAmendment XVIII – Prohibits production\, sale\, and transportation of alcohol.\nAmendment XXVI – Establishes a minimum age of 18 to vote. \nStudents interested in participating in the oratorical contest must registered prior to Monday\, Jan. 6. Contestants must be an active high school student in grades 9 to 12\, must be an American citizen or lawful permanent resident\, and must be under age 20 on May 16\, 2025. \nFor more information on the contest\, or to register\, contact Post 201 Oratorical Chair David Cunnold via email at yjdave99@gmail.com or call 770-853-5130.
URL:https://legion201.org/event/annual-oratorical-contest-at-post-201/
LOCATION:American Legion Post 201 Ballroom\, 201 Wills Road\, Alpharetta\, GA\, 30009\, United States
CATEGORIES:Legion,Public
ATTACH;FMTTYPE=image/jpeg:https://legion201.org/wp-content/uploads/2024/12/maxresdefault.jpg
ORGANIZER;CN="Dave Cunnold":MAILTO:yjdave99@gmail.com
END:VEVENT
BEGIN:VEVENT
DTSTART;TZID=America/New_York:20250117T203000
DTEND;TZID=America/New_York:20250117T223000
DTSTAMP:20260421T190659
CREATED:20250108T203031Z
LAST-MODIFIED:20250108T203410Z
UID:2391-1737145800-1737153000@legion201.org
SUMMARY:Alpha Jazz Band
DESCRIPTION:Alpha Jazz Band to appear Friday\, January 17 in the American Legion Post 201 Ballroom. Open to the Public. Admission is $12. Free dance lesson from 7:30pm to 8:30pm.  Band plays at 8:30pm. Details to follow.
URL:https://legion201.org/event/alpha-jazz-band/
LOCATION:American Legion Post 201 Ballroom\, 201 Wills Road\, Alpharetta\, GA\, 30009\, United States
CATEGORIES:Public
ATTACH;FMTTYPE=image/png:https://legion201.org/wp-content/uploads/2025/01/AlphaJazzLegionJan17th2025.png
END:VEVENT
BEGIN:VEVENT
DTSTART;TZID=America/New_York:20250206T190000
DTEND;TZID=America/New_York:20250206T204500
DTSTAMP:20260421T190659
CREATED:20250131T010157Z
LAST-MODIFIED:20250131T010157Z
UID:2435-1738868400-1738874700@legion201.org
SUMMARY:Hustle Time Dance Course
DESCRIPTION:Hustle Time Dance Course! – Thursday\, Feb. 6 & 13. Here’s an opportunity to do a four-week dance course in only two weeks. Beginner lessons (2 sessions each night) taught by Elizabeth William; Intermediate lessons (2 sessions each night) taught by Jiffy and David Sarver. $10 per session\, $20 for both.\nClick here for more information or contact Elizabeth Williams at 404-579-9676.  Visit Club 201 Dance Website Here.
URL:https://legion201.org/event/hustle-time-dance-course/
LOCATION:American Legion Post 201 Ballroom\, 201 Wills Road\, Alpharetta\, GA\, 30009\, United States
CATEGORIES:Public
ATTACH;FMTTYPE=image/png:https://legion201.org/wp-content/uploads/2025/01/HustleFlyer-2-2025.png
END:VEVENT
BEGIN:VEVENT
DTSTART;TZID=America/New_York:20250213T190000
DTEND;TZID=America/New_York:20250213T204500
DTSTAMP:20260421T190659
CREATED:20250131T010235Z
LAST-MODIFIED:20250131T010235Z
UID:2438-1739473200-1739479500@legion201.org
SUMMARY:Hustle Time Dance Course
DESCRIPTION:Hustle Time Dance Course! – Thursday\, Feb. 6 & 13. Here’s an opportunity to do a four-week dance course in only two weeks. Beginner lessons (2 sessions each night) taught by Elizabeth William; Intermediate lessons (2 sessions each night) taught by Jiffy and David Sarver. $10 per session\, $20 for both.\nClick here for more information or contact Elizabeth Williams at 404-579-9676.  Visit Club 201 Dance Website Here.
URL:https://legion201.org/event/hustle-time-dance-course-2/
LOCATION:American Legion Post 201 Ballroom\, 201 Wills Road\, Alpharetta\, GA\, 30009\, United States
CATEGORIES:Public
ATTACH;FMTTYPE=image/png:https://legion201.org/wp-content/uploads/2025/01/HustleFlyer-2-2025.png
END:VEVENT
BEGIN:VEVENT
DTSTART;TZID=America/New_York:20250223T140000
DTEND;TZID=America/New_York:20250223T170000
DTSTAMP:20260421T190659
CREATED:20240930T212533Z
LAST-MODIFIED:20250225T195739Z
UID:2217-1740319200-1740330000@legion201.org
SUMMARY:Bingo at Post 201
DESCRIPTION:Bingo at Post 201 – Bingo is Back – The Auxiliary Unit 201 has scheduled “Bingo Afternoons at the Post”. Bingo play will start at 2 p.m. There will be a $1\,000 Jackpot!
URL:https://legion201.org/event/bingo-at-post-201/
LOCATION:American Legion Post 201 Ballroom\, 201 Wills Road\, Alpharetta\, GA\, 30009\, United States
CATEGORIES:Auxiliary,Legion,Public
ATTACH;FMTTYPE=image/jpeg:https://legion201.org/wp-content/uploads/2025/02/Bingo-Flyer-Small.jpg
END:VEVENT
BEGIN:VEVENT
DTSTART;TZID=America/New_York:20250307T193000
DTEND;TZID=America/New_York:20250307T230000
DTSTAMP:20260421T190659
CREATED:20250217T231954Z
LAST-MODIFIED:20250225T201442Z
UID:2494-1741375800-1741388400@legion201.org
SUMMARY:R & B\, Inc Band
DESCRIPTION:R & B\, Inc. is a nine piece R&B\, soul & funk band from Atlanta\, Georgia. The members of R&B\, Inc. are All seasoned professionals. The band has appeared in concert with The Atlanta Rhythm Section\, The Family Stone\, The Association\, Gary Puckett & The Union Gap The Zombies\, Who’s Bad\, The Purple Experience\, and Mother’s Finest. Behind the vocal mastery of our lead singer Keith Eatmon\, our all-star rhythm section & The Sugar Hill Horns \n 
URL:https://legion201.org/event/r-b-inc-band/
LOCATION:American Legion Post 201 Ballroom\, 201 Wills Road\, Alpharetta\, GA\, 30009\, United States
CATEGORIES:Dance,Public
ATTACH;FMTTYPE=image/jpeg:https://legion201.org/wp-content/uploads/2025/02/RB_INC-Flyer.jpg
END:VEVENT
BEGIN:VEVENT
DTSTART;TZID=America/New_York:20250309T140000
DTEND;TZID=America/New_York:20250309T170000
DTSTAMP:20260421T190659
CREATED:20241227T050321Z
LAST-MODIFIED:20250225T195708Z
UID:2374-1741528800-1741539600@legion201.org
SUMMARY:Bingo at Post 201
DESCRIPTION:Bingo at Post 201 – Bingo is Back – The Auxiliary Unit 201 has scheduled “Bingo Afternoons at the Post”. Bingo play will start at 2 p.m. There will be a $1\,000 Jackpot!
URL:https://legion201.org/event/bingo-at-post-201-2/
LOCATION:American Legion Post 201 Ballroom\, 201 Wills Road\, Alpharetta\, GA\, 30009\, United States
CATEGORIES:Auxiliary,Legion,Public
ATTACH;FMTTYPE=image/jpeg:https://legion201.org/wp-content/uploads/2025/02/Bingo-Flyer-Small.jpg
END:VEVENT
BEGIN:VEVENT
DTSTART;TZID=America/New_York:20250314T200000
DTEND;TZID=America/New_York:20250314T230000
DTSTAMP:20260421T190659
CREATED:20250217T231551Z
LAST-MODIFIED:20250217T231551Z
UID:2490-1741982400-1741993200@legion201.org
SUMMARY:Last Call Band
DESCRIPTION:Last Call Band \nDate: March 14\, 2025 \nTime: 8:00 PM – 11:00 pm \nVenue:  American Legion Alpharetta Post 201 Ballroom \nOrganizer:  Elizabeth Williams
URL:https://legion201.org/event/last-call-band/
LOCATION:American Legion Post 201 Ballroom\, 201 Wills Road\, Alpharetta\, GA\, 30009\, United States
CATEGORIES:Dance,Public
ATTACH;FMTTYPE=image/jpeg:https://legion201.org/wp-content/uploads/2025/02/Last_call-Flyer.jpg
END:VEVENT
BEGIN:VEVENT
DTSTART;TZID=America/New_York:20250323T140000
DTEND;TZID=America/New_York:20250323T170000
DTSTAMP:20260421T190659
CREATED:20250217T204521Z
LAST-MODIFIED:20250225T195641Z
UID:2483-1742738400-1742749200@legion201.org
SUMMARY:Bingo at Post 201
DESCRIPTION:Bingo at Post 201 – Bingo is Back – The Auxiliary Unit 201 has scheduled “Bingo Afternoons at the Post”. Bingo play will start at 2 p.m. There will be a $1\,000 Jackpot!
URL:https://legion201.org/event/bingo-at-post-201-3/
LOCATION:American Legion Post 201 Ballroom\, 201 Wills Road\, Alpharetta\, GA\, 30009\, United States
CATEGORIES:Auxiliary,Legion,Public
ATTACH;FMTTYPE=image/jpeg:https://legion201.org/wp-content/uploads/2025/02/Bingo-Flyer-Small.jpg
END:VEVENT
BEGIN:VEVENT
DTSTART;TZID=America/New_York:20250328T120000
DTEND;TZID=America/New_York:20250328T140000
DTSTAMP:20260421T190659
CREATED:20250307T223921Z
LAST-MODIFIED:20250307T223921Z
UID:2510-1743163200-1743170400@legion201.org
SUMMARY:Vietnam War Veterans Day 50th
DESCRIPTION:Vietnam War Memorial Day will be honored at 12 Noon on March 29th\, commemorating the Day’s 50th Anniversary at Johns Creek Veterans Memorial. The Johns Creek Veterans Association & The Atlanta Vietnam Veterans Business Association invite you to a celebration to honor Vietnam War Veterans on NATIONAL VIETNAM WAR VETERANS DAY.\nOur replica of the Vietnam Memorial Wall (original is in Washington DC) is on this link.
URL:https://legion201.org/event/vietnam-war-veterans-day-50th/
LOCATION:Johns Creek Veterans Walk at Newtown Park\, 3150 Old Alabama Road\, Johns Creek\, GA\, 30022\, United States
CATEGORIES:JCVA,Offsite Event,Public
ATTACH;FMTTYPE=image/jpeg:https://legion201.org/wp-content/uploads/2025/03/Vietnam-Veterans-Day-50-Yrs-Flyer-Compressed.jpg
END:VEVENT
BEGIN:VEVENT
DTSTART;TZID=America/New_York:20250329T110000
DTEND;TZID=America/New_York:20250329T130000
DTSTAMP:20260421T190659
CREATED:20240306T185953Z
LAST-MODIFIED:20250320T225422Z
UID:1626-1743246000-1743253200@legion201.org
SUMMARY:Community Children's Easter Egg Hunt
DESCRIPTION:Community Children’s Easter Egg Hunt is held again on Saturday\, Mar. 29\, 11 a.m. on the American Legion Post 201 grounds. Open to the Public. For children 12-years-old and under. Egg ‘hunting areas’ will be set aside for each of the following age groups: 0-2; 3-4; 5-6; 7-8\, 9-10\, 11-12. \nEach age group will have the opportunity to find two Golden Egg prizes in their hunt areas. Volunteers are needed to assist with the event. Contact Ellen Terrell-Youngblood\, 678-462-9003\, eftot57@gmail.com for details
URL:https://legion201.org/event/community-childrens-easter-egg-hunt/
LOCATION:American Legion Post 201 Front Lawn\, 201 Wills Road\, ALPHARETTA\, GA\, 30009\, United States
CATEGORIES:Auxiliary,Legion,Public
ATTACH;FMTTYPE=image/jpeg:https://legion201.org/wp-content/uploads/2024/03/Legion-201-Easter-Egg-Hunt-2025.jpg
ORGANIZER;CN="Ellen Terrell Youngblood":MAILTO:eftot57@gmail.com
END:VEVENT
BEGIN:VEVENT
DTSTART;TZID=America/New_York:20250418T200000
DTEND;TZID=America/New_York:20250418T230000
DTSTAMP:20260421T190659
CREATED:20241230T171823Z
LAST-MODIFIED:20250403T133929Z
UID:2378-1745006400-1745017200@legion201.org
SUMMARY:Highway 9 Band at Post 201
DESCRIPTION:Highway 9 Band.  Admission is $12\, payable by cash or charge only. \nHighway 9 Band’s playlist offers a variety of styles including funk\, rock\, pop\, hip-hop\, and country from the 60s\, 70s\, 80s\, 90s and today. \nBefore Highway 9 takes the stage\, join in on beginner and intermediate East Coast Swing dance lessons\, included with your admission. Phenomenal instructors\, Mark and Elizabeth Williams will guide your fun moves between 7:00 p.m. and 8:00 p.m..  More details at Club 201 Dance Website here. \n 
URL:https://legion201.org/event/highway-9-band-at-post-201/
LOCATION:American Legion Post 201 Ballroom\, 201 Wills Road\, Alpharetta\, GA\, 30009\, United States
CATEGORIES:Dance,Public
ATTACH;FMTTYPE=image/jpeg:https://legion201.org/wp-content/uploads/2024/12/h9_band_20250418.jpg
ORGANIZER;CN="Bob Byrd":MAILTO:bobbyrd947@gmail.com
END:VEVENT
BEGIN:VEVENT
DTSTART;VALUE=DATE:20250420
DTEND;VALUE=DATE:20250421
DTSTAMP:20260421T190659
CREATED:20250320T230540Z
LAST-MODIFIED:20250320T230540Z
UID:2547-1745107200-1745193599@legion201.org
SUMMARY:Easter Sunday - Post Closed
DESCRIPTION:Easter Sunday will be a day Post 201 is respectfully CLOSED.   The Clubroom/Bar reopens Monday\, Apr. 21 at 3 p.m.
URL:https://legion201.org/event/easter-sunday-post-closed/
LOCATION:American Legion Post 201 Club Room\, 201 Wills Road\, Alpharetta\, GA\, 30009\, United States
CATEGORIES:Public
ATTACH;FMTTYPE=image/jpeg:https://legion201.org/wp-content/uploads/2025/03/Closed-for-Easter.jpg
END:VEVENT
BEGIN:VEVENT
DTSTART;TZID=America/New_York:20250427T140000
DTEND;TZID=America/New_York:20250427T170000
DTSTAMP:20260421T190659
CREATED:20250320T230902Z
LAST-MODIFIED:20250320T230902Z
UID:2552-1745762400-1745773200@legion201.org
SUMMARY:Bingo at Post 201
DESCRIPTION:Bingo at Post 201 – Bingo is Back – The Auxiliary Unit 201 has scheduled “Bingo Afternoons at the Post”. Bingo play will start at 2 p.m. There will be a $1\,000 Jackpot!
URL:https://legion201.org/event/bingo-at-post-201-5/
LOCATION:American Legion Post 201 Ballroom\, 201 Wills Road\, Alpharetta\, GA\, 30009\, United States
CATEGORIES:Auxiliary,Legion,Public
ATTACH;FMTTYPE=image/jpeg:https://legion201.org/wp-content/uploads/2025/02/Bingo-Flyer-Small.jpg
END:VEVENT
BEGIN:VEVENT
DTSTART;TZID=America/New_York:20250511T140000
DTEND;TZID=America/New_York:20250511T170000
DTSTAMP:20260421T190659
CREATED:20250425T134751Z
LAST-MODIFIED:20250425T134834Z
UID:2614-1746972000-1746982800@legion201.org
SUMMARY:Bingo at Post 201
DESCRIPTION:Bingo at Post 201 – Bingo is Back – The Auxiliary Unit 201 has scheduled “Bingo Afternoons at the Post”. Bingo play will start at 2 p.m. There will be a $1\,000 Jackpot!
URL:https://legion201.org/event/bingo-at-post-201-6/
LOCATION:American Legion Post 201 Ballroom\, 201 Wills Road\, Alpharetta\, GA\, 30009\, United States
CATEGORIES:Auxiliary,Legion,Public
ATTACH;FMTTYPE=image/jpeg:https://legion201.org/wp-content/uploads/2025/02/Bingo-Flyer-Small.jpg
END:VEVENT
BEGIN:VEVENT
DTSTART;TZID=America/New_York:20250608T140000
DTEND;TZID=America/New_York:20250608T170000
DTSTAMP:20260421T190659
CREATED:20250320T230833Z
LAST-MODIFIED:20250505T171824Z
UID:2550-1749391200-1749402000@legion201.org
SUMMARY:Bingo at Post 201
DESCRIPTION:Bingo at Post 201 – Bingo is Back – The Auxiliary Unit 201 has scheduled “Bingo Afternoons at the Post”. Bingo play will start at 2 p.m. There will be a $1\,000 Jackpot!
URL:https://legion201.org/event/bingo-at-post-201-4/
LOCATION:American Legion Post 201 Ballroom\, 201 Wills Road\, Alpharetta\, GA\, 30009\, United States
CATEGORIES:Auxiliary,Legion,Public
ATTACH;FMTTYPE=image/jpeg:https://legion201.org/wp-content/uploads/2025/02/Bingo-Flyer-Small.jpg
END:VEVENT
BEGIN:VEVENT
DTSTART;TZID=America/New_York:20250609T110000
DTEND;TZID=America/New_York:20250609T120000
DTSTAMP:20260421T190659
CREATED:20250325T205438Z
LAST-MODIFIED:20250602T203735Z
UID:2557-1749466800-1749470400@legion201.org
SUMMARY:Commemorative Marker Dedication
DESCRIPTION:Commemorative Marker to be dedicated at the Cumming City Center Veterans Memorial. Dedication presented by Chestatee River Chapter\, NSDAR \nLou Sobh Amphitheater\n450 Vision Drive\nCumming\, GA
URL:https://legion201.org/event/2557/
LOCATION:GA
CATEGORIES:Offsite Event,Public
ATTACH;FMTTYPE=image/jpeg:https://legion201.org/wp-content/uploads/2025/03/image0.jpeg
ORGANIZER;CN="Perrie Tuck":MAILTO:perrietuck@mac.com
END:VEVENT
BEGIN:VEVENT
DTSTART;TZID=America/New_York:20250620T193000
DTEND;TZID=America/New_York:20250620T230000
DTSTAMP:20260421T190659
CREATED:20250602T210237Z
LAST-MODIFIED:20250603T173919Z
UID:2654-1750447800-1750460400@legion201.org
SUMMARY:Alpha Jazz Is Back!
DESCRIPTION:Let’s Dance at the Legion! Free dance lessons with Club 201 Instructors from 7:30 P.M. to 8:00 P.M. Then\, Alpha Jazz plays from 8:00 P.M. to 11:00 P.M. Open to the public. $12 at the door cash or credit accepted. \n 
URL:https://legion201.org/event/alpha-jazz-is-back/
LOCATION:American Legion Post 201 Ballroom\, 201 Wills Road\, Alpharetta\, GA\, 30009\, United States
CATEGORIES:Dance,Public
ATTACH;FMTTYPE=image/jpeg:https://legion201.org/wp-content/uploads/2025/06/20250620_alpha_jazz_band.jpg
END:VEVENT
BEGIN:VEVENT
DTSTART;TZID=America/New_York:20250713T140000
DTEND;TZID=America/New_York:20250713T170000
DTSTAMP:20260421T190659
CREATED:20250425T134921Z
LAST-MODIFIED:20250712T171138Z
UID:2616-1752415200-1752426000@legion201.org
SUMMARY:Bingo at Post 201
DESCRIPTION:Bingo at Post 201 – Bingo is Back – The Auxiliary Unit 201 has scheduled “Bingo Afternoons at the Post”. Bingo play will start at 2 p.m. There will be a $1\,000 Jackpot!
URL:https://legion201.org/event/bingo-at-post-201-7/
LOCATION:American Legion Post 201 Ballroom\, 201 Wills Road\, Alpharetta\, GA\, 30009\, United States
CATEGORIES:Auxiliary,Legion,Public
ATTACH;FMTTYPE=image/jpeg:https://legion201.org/wp-content/uploads/2025/02/Bingo-Flyer-Small.jpg
END:VEVENT
BEGIN:VEVENT
DTSTART;TZID=America/New_York:20250727T140000
DTEND;TZID=America/New_York:20250727T170000
DTSTAMP:20260421T190659
CREATED:20250724T171652Z
LAST-MODIFIED:20250724T191641Z
UID:2827-1753624800-1753635600@legion201.org
SUMMARY:Bingo at Post 201
DESCRIPTION:Bingo at Post 201 – Bingo is Back – The Auxiliary Unit 201 has scheduled “Bingo Afternoons at the Post”. Bingo play will start at 2 p.m. There will be a $1\,000 Jackpot!
URL:https://legion201.org/event/bingo-at-post-201-10/
LOCATION:American Legion Post 201 Ballroom\, 201 Wills Road\, Alpharetta\, GA\, 30009\, United States
CATEGORIES:Public
ATTACH;FMTTYPE=image/jpeg:https://legion201.org/wp-content/uploads/2025/02/Bingo-Flyer-Small.jpg
END:VEVENT
BEGIN:VEVENT
DTSTART;TZID=America/New_York:20250802T100000
DTEND;TZID=America/New_York:20250802T180000
DTSTAMP:20260421T190659
CREATED:20250712T175741Z
LAST-MODIFIED:20250724T191345Z
UID:2772-1754128800-1754157600@legion201.org
SUMMARY:Old Soldiers Day Open House
DESCRIPTION:
URL:https://legion201.org/event/old-soldiers-day-open-house/
LOCATION:GA
CATEGORIES:Public
ATTACH;FMTTYPE=image/jpeg:https://legion201.org/wp-content/uploads/2023/02/Post-201-106.jpg
END:VEVENT
BEGIN:VEVENT
DTSTART;TZID=America/New_York:20250807T180000
DTEND;TZID=America/New_York:20250807T200000
DTSTAMP:20260421T190659
CREATED:20250719T143205Z
LAST-MODIFIED:20250724T191227Z
UID:2796-1754589600-1754596800@legion201.org
SUMMARY:Purple Heart Ceremony
DESCRIPTION:
URL:https://legion201.org/event/purple-heart-ceremony/
LOCATION:American Legion Post 201 Club Room\, 201 Wills Road\, Alpharetta\, GA\, 30009\, United States
CATEGORIES:Public
ATTACH;FMTTYPE=image/jpeg:https://legion201.org/wp-content/uploads/2025/07/purple-heart-day-e1752759872854.jpg
ORGANIZER;CN="Ellen Terrell Youngblood":MAILTO:eftot57@gmail.com
END:VEVENT
BEGIN:VEVENT
DTSTART;TZID=America/New_York:20250810T140000
DTEND;TZID=America/New_York:20250810T170000
DTSTAMP:20260421T190659
CREATED:20250712T171449Z
LAST-MODIFIED:20250724T192440Z
UID:2763-1754834400-1754845200@legion201.org
SUMMARY:Bingo at Post 201
DESCRIPTION:Bingo at Post 201 – Bingo is Back – The Auxiliary Unit 201 has scheduled “Bingo Afternoons at the Post”. Bingo play will start at 2 p.m. There will be a $1\,000 Jackpot!
URL:https://legion201.org/event/bingo-at-post-201-8/
LOCATION:American Legion Post 201 Ballroom\, 201 Wills Road\, Alpharetta\, GA\, 30009\, United States
CATEGORIES:Public
ATTACH;FMTTYPE=image/jpeg:https://legion201.org/wp-content/uploads/2025/02/Bingo-Flyer-Small.jpg
END:VEVENT
BEGIN:VEVENT
DTSTART;TZID=America/New_York:20250823T180000
DTEND;TZID=America/New_York:20250823T210000
DTSTAMP:20260421T190659
CREATED:20250724T180342Z
LAST-MODIFIED:20250724T191031Z
UID:2837-1755972000-1755982800@legion201.org
SUMMARY:SAL Spaghetti Dinner
DESCRIPTION:Spaghetti Dinner night on Saturday\, Aug 23rd.
URL:https://legion201.org/event/sal-spaghetti-dinner/
LOCATION:American Legion Post 201 Club Room\, 201 Wills Road\, Alpharetta\, GA\, 30009\, United States
CATEGORIES:Public
ATTACH;FMTTYPE=image/jpeg:https://legion201.org/wp-content/uploads/2025/07/spaghetti.jpg
END:VEVENT
BEGIN:VEVENT
DTSTART;TZID=America/New_York:20250824T140000
DTEND;TZID=America/New_York:20250824T170000
DTSTAMP:20260421T190659
CREATED:20250724T171510Z
LAST-MODIFIED:20250724T191003Z
UID:2825-1756044000-1756054800@legion201.org
SUMMARY:Bingo at Post 201
DESCRIPTION:Bingo at Post 201 – Bingo is Back – The Auxiliary Unit 201 has scheduled “Bingo Afternoons at the Post”. Bingo play will start at 2 p.m. There will be a $1\,000 Jackpot!
URL:https://legion201.org/event/bingo-at-post-201-9/
LOCATION:American Legion Post 201 Ballroom\, 201 Wills Road\, Alpharetta\, GA\, 30009\, United States
CATEGORIES:Public
ATTACH;FMTTYPE=image/jpeg:https://legion201.org/wp-content/uploads/2025/02/Bingo-Flyer-Small.jpg
END:VEVENT
BEGIN:VEVENT
DTSTART;TZID=America/New_York:20250914T140000
DTEND;TZID=America/New_York:20250914T170000
DTSTAMP:20260421T190659
CREATED:20250828T200150Z
LAST-MODIFIED:20250828T200150Z
UID:2908-1757858400-1757869200@legion201.org
SUMMARY:Bingo at Post 201
DESCRIPTION:Bingo at Post 201 – Bingo is Back – The Auxiliary Unit 201 has scheduled “Bingo Afternoons at the Post”. Bingo play will start at 2 p.m. There will be a $1\,000 Jackpot!
URL:https://legion201.org/event/bingo-at-post-201-11/
LOCATION:American Legion Post 201 Ballroom\, 201 Wills Road\, Alpharetta\, GA\, 30009\, United States
CATEGORIES:Public
ATTACH;FMTTYPE=image/jpeg:https://legion201.org/wp-content/uploads/2025/02/Bingo-Flyer-Small.jpg
END:VEVENT
BEGIN:VEVENT
DTSTART;TZID=America/New_York:20250928T140000
DTEND;TZID=America/New_York:20250928T170000
DTSTAMP:20260421T190659
CREATED:20250828T200232Z
LAST-MODIFIED:20250828T200232Z
UID:2910-1759068000-1759078800@legion201.org
SUMMARY:Bingo at Post 201
DESCRIPTION:Bingo at Post 201 – Bingo is Back – The Auxiliary Unit 201 has scheduled “Bingo Afternoons at the Post”. Bingo play will start at 2 p.m. There will be a $1\,000 Jackpot!
URL:https://legion201.org/event/bingo-at-post-201-12/
LOCATION:American Legion Post 201 Ballroom\, 201 Wills Road\, Alpharetta\, GA\, 30009\, United States
CATEGORIES:Public
ATTACH;FMTTYPE=image/jpeg:https://legion201.org/wp-content/uploads/2025/02/Bingo-Flyer-Small.jpg
END:VEVENT
BEGIN:VEVENT
DTSTART;TZID=America/New_York:20251012T140000
DTEND;TZID=America/New_York:20251012T170000
DTSTAMP:20260421T190659
CREATED:20250828T200355Z
LAST-MODIFIED:20250828T200355Z
UID:2912-1760277600-1760288400@legion201.org
SUMMARY:Bingo at Post 201
DESCRIPTION:Bingo at Post 201 – Bingo is Back – The Auxiliary Unit 201 has scheduled “Bingo Afternoons at the Post”. Bingo play will start at 2 p.m. There will be a $1\,000 Jackpot!
URL:https://legion201.org/event/bingo-at-post-201-13/
LOCATION:American Legion Post 201 Ballroom\, 201 Wills Road\, Alpharetta\, GA\, 30009\, United States
CATEGORIES:Public
ATTACH;FMTTYPE=image/jpeg:https://legion201.org/wp-content/uploads/2025/02/Bingo-Flyer-Small.jpg
END:VEVENT
BEGIN:VEVENT
DTSTART;TZID=America/New_York:20251026T140000
DTEND;TZID=America/New_York:20251026T170000
DTSTAMP:20260421T190659
CREATED:20250828T200424Z
LAST-MODIFIED:20250828T200424Z
UID:2914-1761487200-1761498000@legion201.org
SUMMARY:Bingo at Post 201
DESCRIPTION:Bingo at Post 201 – Bingo is Back – The Auxiliary Unit 201 has scheduled “Bingo Afternoons at the Post”. Bingo play will start at 2 p.m. There will be a $1\,000 Jackpot!
URL:https://legion201.org/event/bingo-at-post-201-14/
LOCATION:American Legion Post 201 Ballroom\, 201 Wills Road\, Alpharetta\, GA\, 30009\, United States
CATEGORIES:Public
ATTACH;FMTTYPE=image/jpeg:https://legion201.org/wp-content/uploads/2025/02/Bingo-Flyer-Small.jpg
END:VEVENT
END:VCALENDAR