BEGIN:VCALENDAR
VERSION:2.0
PRODID:-//American Legion Post 201, Alpharetta GA - ECPv6.15.20//NONSGML v1.0//EN
CALSCALE:GREGORIAN
METHOD:PUBLISH
X-ORIGINAL-URL:https://legion201.org
X-WR-CALDESC:Events for American Legion Post 201, Alpharetta GA
REFRESH-INTERVAL;VALUE=DURATION:PT1H
X-Robots-Tag:noindex
X-PUBLISHED-TTL:PT1H
BEGIN:VTIMEZONE
TZID:America/New_York
BEGIN:DAYLIGHT
TZOFFSETFROM:-0500
TZOFFSETTO:-0400
TZNAME:EDT
DTSTART:20220313T070000
END:DAYLIGHT
BEGIN:STANDARD
TZOFFSETFROM:-0400
TZOFFSETTO:-0500
TZNAME:EST
DTSTART:20221106T060000
END:STANDARD
BEGIN:DAYLIGHT
TZOFFSETFROM:-0500
TZOFFSETTO:-0400
TZNAME:EDT
DTSTART:20230312T070000
END:DAYLIGHT
BEGIN:STANDARD
TZOFFSETFROM:-0400
TZOFFSETTO:-0500
TZNAME:EST
DTSTART:20231105T060000
END:STANDARD
BEGIN:DAYLIGHT
TZOFFSETFROM:-0500
TZOFFSETTO:-0400
TZNAME:EDT
DTSTART:20240310T070000
END:DAYLIGHT
BEGIN:STANDARD
TZOFFSETFROM:-0400
TZOFFSETTO:-0500
TZNAME:EST
DTSTART:20241103T060000
END:STANDARD
END:VTIMEZONE
BEGIN:VEVENT
DTSTART;TZID=America/New_York:20230529T130000
DTEND;TZID=America/New_York:20230529T220000
DTSTAMP:20260425T083315
CREATED:20230526T153722Z
LAST-MODIFIED:20230526T154439Z
UID:1020-1685365200-1685397600@legion201.org
SUMMARY:Memorial Day
DESCRIPTION:Alpharetta\, Milton and Roswell will hold Memorial Day Events and Post Clubroom/Bar Opens at 1 p.m. \nAlpharetta – – The City and the Rotary Club of Alpharetta will host a Memorial Day Tribute starting at 9:30 a.m. at Alpharetta City Hall\, 2 Park Plaza. American Legion Post 201 will be represented again this year by Marty Ferrell\, who has been a program participant and Post representative at this event since 2016. Music will be provided by the Alpharetta City Band. \nAt the end of the day the Alpharetta Symphony Orchestra along with Takosha Swan\, the founder of The Veteran Anthem\, will present a free Memorial Day concert starting at 7 p.m. at Brooke Street Park\, 2 Park Plaza\, \nMilton – – The City’s annual ceremony starts at 10 a.m. at The Green at Crabapple Market\, 12650 Crabapple Rd. This past weekend\, volunteers from the Milton Veterans Memorial Markers installed 823 remembrance markers throughout downtown Crabapple and in the Georgia Highway 9 /Webb Road area. Each marker honors a late veteran with a Milton connection. Some date back to the Revolutionary War. Others have ties to more recent conflict. \nTo look at the names of those honored and find the location of a specific marker\, go to https://miltonveterans.org/findamarker/. \nRoswell – – For the past 23 years\, area residents have joined the Rotary Club of Roswell and the City of Roswell to honor the men and women who gave the ultimate sacrifice in the defense of the U.S.A. This year’s ceremony is scheduled for 11 a.m. at Roswell City Hall\, 38 Hill Street. The grounds will open at 10 a.m. with displays and music. Following the ceremony\, food trucks from Tres Jardines\, Eggroll Boyz\, and Patty Wagon will on the grounds selling food to attendees. \nIt should be noted that all three morning ceremonies are scheduled to end with sufficient time for members of the Post family attend a ceremony and then drop by the clubroom/bar which will open at 1 p.m. on Monday.\n~ ~ ~
URL:https://legion201.org/event/memorial-day/
LOCATION:American Legion Post 201 Club Room\, 201 Wills Road\, Alpharetta\, GA\, 30009\, United States
CATEGORIES:Legion,Offsite Event
ATTACH;FMTTYPE=image/webp:https://legion201.org/wp-content/uploads/2023/05/Memorial-Day.webp
END:VEVENT
END:VCALENDAR